Workbook

Sheet Цели
A1: Целевые показатели SLA (в рабочих часах)
A3: Класс | B3: Время реакции, раб. ч | C3: Время восстановления, раб. ч | D3: Доля в срок, цель
A4: Критический | B4: 0.5 | C4: 4 | D4: 0.95
A5: Высокий | B5: 2 | C5: 8 | D5: 0.9
A6: Обычный | B6: 8 | C6: 27 | D6: 0.9
A8: Рабочее окно | D8: Праздники (даты)
A9: Начало рабочего дня | B9: 0.375
A10: Конец рабочего дня | B10: 0.75
A11: Выходные | B11: суббота и воскресенье
A12: Часов в рабочем дне | B12: =(B10-B9)*24
A14: Сроки считаются в рабочих часах: только будни, только внутри рабочего окна, без праздников из списка. Пример: зарегистрировано в пятницу в 17:00, первый ответ в понедельник в 10:00, окно 9:00–18:00 — реакция 2 рабочих часа. Значения целей — ориентиры из образца SLA (30 минут / 4 часа, 2 / 8 часов, 8 часов / 3 рабочих дня = 27 часов при дне 9 часов); замените их своими: фактическая медиана за три месяца плюс запас.

Sheet Реестр
A1: № | B1: Класс | C1: Зарегистрировано | D1: Первый ответ | E1: Восстановлено | F1: Ожидание клиента, раб. ч | G1: Реакция, раб. ч | H1: Восстановление, раб. ч | I1: Реакция в срок? | J1: Восстановление в срок?
A2: =IF(C2="","",ROW()-1) | G2: =IF(OR(C2="",D2=""),"",ROUND(MAX(0,MAX(0,((NETWORKDAYS.INTL(C2,D2,1,Цели!$D$9:$D$38)-1)*(Цели!$B$10-Цели!$B$9)+IF(NETWORKDAYS.INTL(D2,D2,1,Цели!$D$9:$D$38),MEDIAN(MOD(D2,1),Цели!$B$10,Цели!$B$9),Цели!$B$10)-MEDIAN(NETWORKDAYS.INTL(C2,C2,1,Цели!$D$9:$D$38)*MOD(C2,1),Цели!$B$10,Цели!$B$9))*24)-N(F2)),2)) | H2: =IF(OR(C2="",E2=""),"",ROUND(MAX(0,MAX(0,((NETWORKDAYS.INTL(C2,E2,1,Цели!$D$9:$D$38)-1)*(Цели!$B$10-Цели!$B$9)+IF(NETWORKDAYS.INTL(E2,E2,1,Цели!$D$9:$D$38),MEDIAN(MOD(E2,1),Цели!$B$10,Цели!$B$9),Цели!$B$10)-MEDIAN(NETWORKDAYS.INTL(C2,C2,1,Цели!$D$9:$D$38)*MOD(C2,1),Цели!$B$10,Цели!$B$9))*24)-N(F2)),2)) | I2: =IF(G2="","",IF(G2<=VLOOKUP(B2,Цели!$A$4:$C$6,2,FALSE),"Да","Нет")) | J2: =IF(H2="","",IF(H2<=VLOOKUP(B2,Цели!$A$4:$C$6,3,FALSE),"Да","Нет"))
A3: =IF(C3="","",ROW()-1) | G3: =IF(OR(C3="",D3=""),"",ROUND(MAX(0,MAX(0,((NETWORKDAYS.INTL(C3,D3,1,Цели!$D$9:$D$38)-1)*(Цели!$B$10-Цели!$B$9)+IF(NETWORKDAYS.INTL(D3,D3,1,Цели!$D$9:$D$38),MEDIAN(MOD(D3,1),Цели!$B$10,Цели!$B$9),Цели!$B$10)-MEDIAN(NETWORKDAYS.INTL(C3,C3,1,Цели!$D$9:$D$38)*MOD(C3,1),Цели!$B$10,Цели!$B$9))*24)-N(F3)),2)) | H3: =IF(OR(C3="",E3=""),"",ROUND(MAX(0,MAX(0,((NETWORKDAYS.INTL(C3,E3,1,Цели!$D$9:$D$38)-1)*(Цели!$B$10-Цели!$B$9)+IF(NETWORKDAYS.INTL(E3,E3,1,Цели!$D$9:$D$38),MEDIAN(MOD(E3,1),Цели!$B$10,Цели!$B$9),Цели!$B$10)-MEDIAN(NETWORKDAYS.INTL(C3,C3,1,Цели!$D$9:$D$38)*MOD(C3,1),Цели!$B$10,Цели!$B$9))*24)-N(F3)),2)) | I3: =IF(G3="","",IF(G3<=VLOOKUP(B3,Цели!$A$4:$C$6,2,FALSE),"Да","Нет")) | J3: =IF(H3="","",IF(H3<=VLOOKUP(B3,Цели!$A$4:$C$6,3,FALSE),"Да","Нет"))
A4: =IF(C4="","",ROW()-1) | G4: =IF(OR(C4="",D4=""),"",ROUND(MAX(0,MAX(0,((NETWORKDAYS.INTL(C4,D4,1,Цели!$D$9:$D$38)-1)*(Цели!$B$10-Цели!$B$9)+IF(NETWORKDAYS.INTL(D4,D4,1,Цели!$D$9:$D$38),MEDIAN(MOD(D4,1),Цели!$B$10,Цели!$B$9),Цели!$B$10)-MEDIAN(NETWORKDAYS.INTL(C4,C4,1,Цели!$D$9:$D$38)*MOD(C4,1),Цели!$B$10,Цели!$B$9))*24)-N(F4)),2)) | H4: =IF(OR(C4="",E4=""),"",ROUND(MAX(0,MAX(0,((NETWORKDAYS.INTL(C4,E4,1,Цели!$D$9:$D$38)-1)*(Цели!$B$10-Цели!$B$9)+IF(NETWORKDAYS.INTL(E4,E4,1,Цели!$D$9:$D$38),MEDIAN(MOD(E4,1),Цели!$B$10,Цели!$B$9),Цели!$B$10)-MEDIAN(NETWORKDAYS.INTL(C4,C4,1,Цели!$D$9:$D$38)*MOD(C4,1),Цели!$B$10,Цели!$B$9))*24)-N(F4)),2)) | I4: =IF(G4="","",IF(G4<=VLOOKUP(B4,Цели!$A$4:$C$6,2,FALSE),"Да","Нет")) | J4: =IF(H4="","",IF(H4<=VLOOKUP(B4,Цели!$A$4:$C$6,3,FALSE),"Да","Нет"))
A5: =IF(C5="","",ROW()-1) | G5: =IF(OR(C5="",D5=""),"",ROUND(MAX(0,MAX(0,((NETWORKDAYS.INTL(C5,D5,1,Цели!$D$9:$D$38)-1)*(Цели!$B$10-Цели!$B$9)+IF(NETWORKDAYS.INTL(D5,D5,1,Цели!$D$9:$D$38),MEDIAN(MOD(D5,1),Цели!$B$10,Цели!$B$9),Цели!$B$10)-MEDIAN(NETWORKDAYS.INTL(C5,C5,1,Цели!$D$9:$D$38)*MOD(C5,1),Цели!$B$10,Цели!$B$9))*24)-N(F5)),2)) | H5: =IF(OR(C5="",E5=""),"",ROUND(MAX(0,MAX(0,((NETWORKDAYS.INTL(C5,E5,1,Цели!$D$9:$D$38)-1)*(Цели!$B$10-Цели!$B$9)+IF(NETWORKDAYS.INTL(E5,E5,1,Цели!$D$9:$D$38),MEDIAN(MOD(E5,1),Цели!$B$10,Цели!$B$9),Цели!$B$10)-MEDIAN(NETWORKDAYS.INTL(C5,C5,1,Цели!$D$9:$D$38)*MOD(C5,1),Цели!$B$10,Цели!$B$9))*24)-N(F5)),2)) | I5: =IF(G5="","",IF(G5<=VLOOKUP(B5,Цели!$A$4:$C$6,2,FALSE),"Да","Нет")) | J5: =IF(H5="","",IF(H5<=VLOOKUP(B5,Цели!$A$4:$C$6,3,FALSE),"Да","Нет"))
A6: =IF(C6="","",ROW()-1) | G6: =IF(OR(C6="",D6=""),"",ROUND(MAX(0,MAX(0,((NETWORKDAYS.INTL(C6,D6,1,Цели!$D$9:$D$38)-1)*(Цели!$B$10-Цели!$B$9)+IF(NETWORKDAYS.INTL(D6,D6,1,Цели!$D$9:$D$38),MEDIAN(MOD(D6,1),Цели!$B$10,Цели!$B$9),Цели!$B$10)-MEDIAN(NETWORKDAYS.INTL(C6,C6,1,Цели!$D$9:$D$38)*MOD(C6,1),Цели!$B$10,Цели!$B$9))*24)-N(F6)),2)) | H6: =IF(OR(C6="",E6=""),"",ROUND(MAX(0,MAX(0,((NETWORKDAYS.INTL(C6,E6,1,Цели!$D$9:$D$38)-1)*(Цели!$B$10-Цели!$B$9)+IF(NETWORKDAYS.INTL(E6,E6,1,Цели!$D$9:$D$38),MEDIAN(MOD(E6,1),Цели!$B$10,Цели!$B$9),Цели!$B$10)-MEDIAN(NETWORKDAYS.INTL(C6,C6,1,Цели!$D$9:$D$38)*MOD(C6,1),Цели!$B$10,Цели!$B$9))*24)-N(F6)),2)) | I6: =IF(G6="","",IF(G6<=VLOOKUP(B6,Цели!$A$4:$C$6,2,FALSE),"Да","Нет")) | J6: =IF(H6="","",IF(H6<=VLOOKUP(B6,Цели!$A$4:$C$6,3,FALSE),"Да","Нет"))
A7: =IF(C7="","",ROW()-1) | G7: =IF(OR(C7="",D7=""),"",ROUND(MAX(0,MAX(0,((NETWORKDAYS.INTL(C7,D7,1,Цели!$D$9:$D$38)-1)*(Цели!$B$10-Цели!$B$9)+IF(NETWORKDAYS.INTL(D7,D7,1,Цели!$D$9:$D$38),MEDIAN(MOD(D7,1),Цели!$B$10,Цели!$B$9),Цели!$B$10)-MEDIAN(NETWORKDAYS.INTL(C7,C7,1,Цели!$D$9:$D$38)*MOD(C7,1),Цели!$B$10,Цели!$B$9))*24)-N(F7)),2)) | H7: =IF(OR(C7="",E7=""),"",ROUND(MAX(0,MAX(0,((NETWORKDAYS.INTL(C7,E7,1,Цели!$D$9:$D$38)-1)*(Цели!$B$10-Цели!$B$9)+IF(NETWORKDAYS.INTL(E7,E7,1,Цели!$D$9:$D$38),MEDIAN(MOD(E7,1),Цели!$B$10,Цели!$B$9),Цели!$B$10)-MEDIAN(NETWORKDAYS.INTL(C7,C7,1,Цели!$D$9:$D$38)*MOD(C7,1),Цели!$B$10,Цели!$B$9))*24)-N(F7)),2)) | I7: =IF(G7="","",IF(G7<=VLOOKUP(B7,Цели!$A$4:$C$6,2,FALSE),"Да","Нет")) | J7: =IF(H7="","",IF(H7<=VLOOKUP(B7,Цели!$A$4:$C$6,3,FALSE),"Да","Нет"))
A8: =IF(C8="","",ROW()-1) | G8: =IF(OR(C8="",D8=""),"",ROUND(MAX(0,MAX(0,((NETWORKDAYS.INTL(C8,D8,1,Цели!$D$9:$D$38)-1)*(Цели!$B$10-Цели!$B$9)+IF(NETWORKDAYS.INTL(D8,D8,1,Цели!$D$9:$D$38),MEDIAN(MOD(D8,1),Цели!$B$10,Цели!$B$9),Цели!$B$10)-MEDIAN(NETWORKDAYS.INTL(C8,C8,1,Цели!$D$9:$D$38)*MOD(C8,1),Цели!$B$10,Цели!$B$9))*24)-N(F8)),2)) | H8: =IF(OR(C8="",E8=""),"",ROUND(MAX(0,MAX(0,((NETWORKDAYS.INTL(C8,E8,1,Цели!$D$9:$D$38)-1)*(Цели!$B$10-Цели!$B$9)+IF(NETWORKDAYS.INTL(E8,E8,1,Цели!$D$9:$D$38),MEDIAN(MOD(E8,1),Цели!$B$10,Цели!$B$9),Цели!$B$10)-MEDIAN(NETWORKDAYS.INTL(C8,C8,1,Цели!$D$9:$D$38)*MOD(C8,1),Цели!$B$10,Цели!$B$9))*24)-N(F8)),2)) | I8: =IF(G8="","",IF(G8<=VLOOKUP(B8,Цели!$A$4:$C$6,2,FALSE),"Да","Нет")) | J8: =IF(H8="","",IF(H8<=VLOOKUP(B8,Цели!$A$4:$C$6,3,FALSE),"Да","Нет"))
A9: =IF(C9="","",ROW()-1) | G9: =IF(OR(C9="",D9=""),"",ROUND(MAX(0,MAX(0,((NETWORKDAYS.INTL(C9,D9,1,Цели!$D$9:$D$38)-1)*(Цели!$B$10-Цели!$B$9)+IF(NETWORKDAYS.INTL(D9,D9,1,Цели!$D$9:$D$38),MEDIAN(MOD(D9,1),Цели!$B$10,Цели!$B$9),Цели!$B$10)-MEDIAN(NETWORKDAYS.INTL(C9,C9,1,Цели!$D$9:$D$38)*MOD(C9,1),Цели!$B$10,Цели!$B$9))*24)-N(F9)),2)) | H9: =IF(OR(C9="",E9=""),"",ROUND(MAX(0,MAX(0,((NETWORKDAYS.INTL(C9,E9,1,Цели!$D$9:$D$38)-1)*(Цели!$B$10-Цели!$B$9)+IF(NETWORKDAYS.INTL(E9,E9,1,Цели!$D$9:$D$38),MEDIAN(MOD(E9,1),Цели!$B$10,Цели!$B$9),Цели!$B$10)-MEDIAN(NETWORKDAYS.INTL(C9,C9,1,Цели!$D$9:$D$38)*MOD(C9,1),Цели!$B$10,Цели!$B$9))*24)-N(F9)),2)) | I9: =IF(G9="","",IF(G9<=VLOOKUP(B9,Цели!$A$4:$C$6,2,FALSE),"Да","Нет")) | J9: =IF(H9="","",IF(H9<=VLOOKUP(B9,Цели!$A$4:$C$6,3,FALSE),"Да","Нет"))
A10: =IF(C10="","",ROW()-1) | G10: =IF(OR(C10="",D10=""),"",ROUND(MAX(0,MAX(0,((NETWORKDAYS.INTL(C10,D10,1,Цели!$D$9:$D$38)-1)*(Цели!$B$10-Цели!$B$9)+IF(NETWORKDAYS.INTL(D10,D10,1,Цели!$D$9:$D$38),MEDIAN(MOD(D10,1),Цели!$B$10,Цели!$B$9),Цели!$B$10)-MEDIAN(NETWORKDAYS.INTL(C10,C10,1,Цели!$D$9:$D$38)*MOD(C10,1),Цели!$B$10,Цели!$B$9))*24)-N(F10)),2)) | H10: =IF(OR(C10="",E10=""),"",ROUND(MAX(0,MAX(0,((NETWORKDAYS.INTL(C10,E10,1,Цели!$D$9:$D$38)-1)*(Цели!$B$10-Цели!$B$9)+IF(NETWORKDAYS.INTL(E10,E10,1,Цели!$D$9:$D$38),MEDIAN(MOD(E10,1),Цели!$B$10,Цели!$B$9),Цели!$B$10)-MEDIAN(NETWORKDAYS.INTL(C10,C10,1,Цели!$D$9:$D$38)*MOD(C10,1),Цели!$B$10,Цели!$B$9))*24)-N(F10)),2)) | I10: =IF(G10="","",IF(G10<=VLOOKUP(B10,Цели!$A$4:$C$6,2,FALSE),"Да","Нет")) | J10: =IF(H10="","",IF(H10<=VLOOKUP(B10,Цели!$A$4:$C$6,3,FALSE),"Да","Нет"))
A11: =IF(C11="","",ROW()-1) | G11: =IF(OR(C11="",D11=""),"",ROUND(MAX(0,MAX(0,((NETWORKDAYS.INTL(C11,D11,1,Цели!$D$9:$D$38)-1)*(Цели!$B$10-Цели!$B$9)+IF(NETWORKDAYS.INTL(D11,D11,1,Цели!$D$9:$D$38),MEDIAN(MOD(D11,1),Цели!$B$10,Цели!$B$9),Цели!$B$10)-MEDIAN(NETWORKDAYS.INTL(C11,C11,1,Цели!$D$9:$D$38)*MOD(C11,1),Цели!$B$10,Цели!$B$9))*24)-N(F11)),2)) | H11: =IF(OR(C11="",E11=""),"",ROUND(MAX(0,MAX(0,((NETWORKDAYS.INTL(C11,E11,1,Цели!$D$9:$D$38)-1)*(Цели!$B$10-Цели!$B$9)+IF(NETWORKDAYS.INTL(E11,E11,1,Цели!$D$9:$D$38),MEDIAN(MOD(E11,1),Цели!$B$10,Цели!$B$9),Цели!$B$10)-MEDIAN(NETWORKDAYS.INTL(C11,C11,1,Цели!$D$9:$D$38)*MOD(C11,1),Цели!$B$10,Цели!$B$9))*24)-N(F11)),2)) | I11: =IF(G11="","",IF(G11<=VLOOKUP(B11,Цели!$A$4:$C$6,2,FALSE),"Да","Нет")) | J11: =IF(H11="","",IF(H11<=VLOOKUP(B11,Цели!$A$4:$C$6,3,FALSE),"Да","Нет"))
A12: =IF(C12="","",ROW()-1) | G12: =IF(OR(C12="",D12=""),"",ROUND(MAX(0,MAX(0,((NETWORKDAYS.INTL(C12,D12,1,Цели!$D$9:$D$38)-1)*(Цели!$B$10-Цели!$B$9)+IF(NETWORKDAYS.INTL(D12,D12,1,Цели!$D$9:$D$38),MEDIAN(MOD(D12,1),Цели!$B$10,Цели!$B$9),Цели!$B$10)-MEDIAN(NETWORKDAYS.INTL(C12,C12,1,Цели!$D$9:$D$38)*MOD(C12,1),Цели!$B$10,Цели!$B$9))*24)-N(F12)),2)) | H12: =IF(OR(C12="",E12=""),"",ROUND(MAX(0,MAX(0,((NETWORKDAYS.INTL(C12,E12,1,Цели!$D$9:$D$38)-1)*(Цели!$B$10-Цели!$B$9)+IF(NETWORKDAYS.INTL(E12,E12,1,Цели!$D$9:$D$38),MEDIAN(MOD(E12,1),Цели!$B$10,Цели!$B$9),Цели!$B$10)-MEDIAN(NETWORKDAYS.INTL(C12,C12,1,Цели!$D$9:$D$38)*MOD(C12,1),Цели!$B$10,Цели!$B$9))*24)-N(F12)),2)) | I12: =IF(G12="","",IF(G12<=VLOOKUP(B12,Цели!$A$4:$C$6,2,FALSE),"Да","Нет")) | J12: =IF(H12="","",IF(H12<=VLOOKUP(B12,Цели!$A$4:$C$6,3,FALSE),"Да","Нет"))
A13: =IF(C13="","",ROW()-1) | G13: =IF(OR(C13="",D13=""),"",ROUND(MAX(0,MAX(0,((NETWORKDAYS.INTL(C13,D13,1,Цели!$D$9:$D$38)-1)*(Цели!$B$10-Цели!$B$9)+IF(NETWORKDAYS.INTL(D13,D13,1,Цели!$D$9:$D$38),MEDIAN(MOD(D13,1),Цели!$B$10,Цели!$B$9),Цели!$B$10)-MEDIAN(NETWORKDAYS.INTL(C13,C13,1,Цели!$D$9:$D$38)*MOD(C13,1),Цели!$B$10,Цели!$B$9))*24)-N(F13)),2)) | H13: =IF(OR(C13="",E13=""),"",ROUND(MAX(0,MAX(0,((NETWORKDAYS.INTL(C13,E13,1,Цели!$D$9:$D$38)-1)*(Цели!$B$10-Цели!$B$9)+IF(NETWORKDAYS.INTL(E13,E13,1,Цели!$D$9:$D$38),MEDIAN(MOD(E13,1),Цели!$B$10,Цели!$B$9),Цели!$B$10)-MEDIAN(NETWORKDAYS.INTL(C13,C13,1,Цели!$D$9:$D$38)*MOD(C13,1),Цели!$B$10,Цели!$B$9))*24)-N(F13)),2)) | I13: =IF(G13="","",IF(G13<=VLOOKUP(B13,Цели!$A$4:$C$6,2,FALSE),"Да","Нет")) | J13: =IF(H13="","",IF(H13<=VLOOKUP(B13,Цели!$A$4:$C$6,3,FALSE),"Да","Нет"))
... A501: =IF(C501="","",ROW()-1) | G501: =IF(OR(C501="",D501=""),"",ROUND(MAX(0,MAX(0,((NETWORKDAYS.INTL(C501,D501,1,Цели!$D$9:$D$38)-1)*(Цели!$B$10-Цели!$B$9)+IF(NETWORKDAYS.INTL(D501,D501,1,Цели!$D$9:$D$38),MEDIAN(MOD(D501,1),Цели!$B$10,Цели!$B$9),Цели!$B$10)-MEDIAN(NETWORKDAYS.INTL(C501,C501,1,Цели!$D$9:$D$38)*MOD(C501,1),Цели!$B$10,Цели!$B$9))*24)-N(F501)),2)) | H501: =IF(OR(C501="",E501=""),"",ROUND(MAX(0,MAX(0,((NETWORKDAYS.INTL(C501,E501,1,Цели!$D$9:$D$38)-1)*(Цели!$B$10-Цели!$B$9)+IF(NETWORKDAYS.INTL(E501,E501,1,Цели!$D$9:$D$38),MEDIAN(MOD(E501,1),Цели!$B$10,Цели!$B$9),Цели!$B$10)-MEDIAN(NETWORKDAYS.INTL(C501,C501,1,Цели!$D$9:$D$38)*MOD(C501,1),Цели!$B$10,Цели!$B$9))*24)-N(F501)),2)) | I501: =IF(G501="","",IF(G501<=VLOOKUP(B501,Цели!$A$4:$C$6,2,FALSE),"Да","Нет")) | J501: =IF(H501="","",IF(H501<=VLOOKUP(B501,Цели!$A$4:$C$6,3,FALSE),"Да","Нет"))

Sheet Итоги
A1: Доля обращений в срок
A3: Класс | B3: Обращений | C3: Реакция в срок | D3: Восстановление в срок | E3: Цель
A4: Критический | B4: =COUNTIF(Реестр!$B$2:$B$501,A4) | C4: =IF(B4=0,"",COUNTIFS(Реестр!$B$2:$B$501,A4,Реестр!$I$2:$I$501,"Да")/B4) | D4: =IF(B4=0,"",COUNTIFS(Реестр!$B$2:$B$501,A4,Реестр!$J$2:$J$501,"Да")/B4) | E4: =Цели!D4
A5: Высокий | B5: =COUNTIF(Реестр!$B$2:$B$501,A5) | C5: =IF(B5=0,"",COUNTIFS(Реестр!$B$2:$B$501,A5,Реестр!$I$2:$I$501,"Да")/B5) | D5: =IF(B5=0,"",COUNTIFS(Реестр!$B$2:$B$501,A5,Реестр!$J$2:$J$501,"Да")/B5) | E5: =Цели!D5
A6: Обычный | B6: =COUNTIF(Реестр!$B$2:$B$501,A6) | C6: =IF(B6=0,"",COUNTIFS(Реестр!$B$2:$B$501,A6,Реестр!$I$2:$I$501,"Да")/B6) | D6: =IF(B6=0,"",COUNTIFS(Реестр!$B$2:$B$501,A6,Реестр!$J$2:$J$501,"Да")/B6) | E6: =Цели!D6
A9: Время реакции и восстановления считается в рабочих часах по окну и праздникам с листа «Цели»; ожидание ответа клиента (колонка F, в рабочих часах) вычитается из обоих интервалов.

Sheet Доступность
A1: Калькулятор доступности сервиса
A3: Дней в месяце | B3: 30
A4: Недоступность за месяц, минут | B4: 0
A5: Плановые работы с уведомлением, минут (исключаются) | B5: 0
A6: Доступность | B6: =((B3*24*60)-(B4-B5))/(B3*24*60)
A7: Цель | B7: 0.995
A8: Допустимо недоступности при цели, минут | B8: =ROUND(B3*24*60*(1-B7),0)
A9: Цель выполнена? | B9: =IF(B6>=B7,"Да","Нет")
A11: Доступность | B11: Максимум недоступности за 30 дней, минут
A12: 0.999 | B12: =ROUND(30*24*60*(1-A12),0)
A13: 0.995 | B13: =ROUND(30*24*60*(1-A13),0)
A14: 0.99 | B14: =ROUND(30*24*60*(1-A14),0)
A15: 0.98 | B15: =ROUND(30*24*60*(1-A15),0)
A17: Доступность считается в календарном времени месяца: Доступность = (Общее время месяца − Время недоступности) / Общее время месяца × 100 %. Источник: support.tehprof.kz/help/guides/template-sla-agreement
